BEGIN:VCALENDAR
VERSION:2.0
PRODID:-//wp-events-plugin.com//7.2.2.1//EN
BEGIN:VEVENT
UID:76@seppotanhua.fi
DTSTART;TZID=Europe/Helsinki:20260509T100000
DTEND;TZID=Europe/Helsinki:20260510T160000
DTSTAMP:20260330T131240Z
URL:https://www.seppotanhua.fi/tapahtumat/astrologia-ja-hengityksen-maagin
 en-voima-9-10-5-2026/
SUMMARY:Astrologia ja hengityksen maaginen voima 9-10.5 Hämeenlinna
DESCRIPTION:Astrologia &amp\; hengityksen maaginen voima\nKahden päivän s
 yväluotaava kurssi\, jossa yhdistyvät astrologinen ymmärrys ja hengityk
 sen konkreettinen voima. Tämä kokonaisuus ei jää teoriaksi\, se tuntuu
  kehossa\, näkyy oivalluksina ja jää elämään arjessasi.\nKurssi rake
 ntuu kahdesta toisiaan tukevasta osiosta\, jotka kulkevat viikonlopun ajan
  rinnakkain:\n\nAstrologia - Seppo Tanhua\nwww.astro.fi\n\nLauantai 9.5:\n
 Saat henkilökohtaiseen syntymäkarttaasi perustuvan tulkinnan:\n\n\n 	Hen
 kiset vahvuutesi\n 	Elämäntehtäväsi\n 	Kutsu\, jota et voi sivuuttaa (
 vaikka yrittäisit)\n\nSunnuntai 10.5:\nSukellamme tulevaan:\n\n\n 	Oma ko
 sminen tehtäväkenttäsi vuosille 2026–2028\n 	Aikakausi\, jota voidaan
  pitää ihmiskunnan toistaiseksi merkittävimpänä henkisen kehityksen j
 aksona\n\nHUOM! Molemmat tulkinnat saat tallenteena sähköpostiisi kurssi
 n jälkeen.\n\n\n\n\nHengitys – Timo Lampen\nhttps://timo-lampen.mykajab
 i.com/\nLauantai 9.5 : Perusta kuntoon\nOpit käytännön harjoitukset\, j
 oiden avulla avulla opit terveyttä edistävän hengityksen perusteet:\n\n
 \n 	Parannat jaksamista ja keskittymistä\n 	Tuet palautumista ja unta\n 	
 Rakennat terveellisen hengityksen perustan\n\nHUOM! Tämä valmennus on au
 ttanut jo tuhansia ihmisiä\, eikä syyttä!\nSunnuntai 10.5:  Syvemmäll
 e kokemukseen\nSiirrytään lempeästi intensiivisempiin harjoituksiin\, j
 oiden avulla siirryt tietoisuuden korkeammille tasoille turvallisesti ilma
 n kemiallisia avusteita:\n\n\n 	Laajennat tietoisuuttasi\n 	Vahvistat fyys
 istä ja henkistä suorituskykyä\n 	Siirryt tekemisestä vastaanottamisee
 n\n\n\n\n\nHinta &amp\; Ilmoittautuminen:\n\n 	Mukaan mahtuu 20 osallistuj
 aa\n 	Hinta: 250 €\n 	Ilmoittautuminen tapahtuu sivun alalaidassa olevan
  lomakkeen kautta.\n\n\n\n\nOsallistujien kokemuksia Timon kursseista:\n
 “Nykyään pystyn nukkumaan suu kiinni ja herään huomattavasti virkeä
 mpänä.” - Jukka Harju\, yrittäjä\n“En osannut kuvitella\, kuinka u
 lkomaailman saa hiljenemään keskittymällä hengitykseen.” - Sasu Lauk
 konen\, keittiömestari\n“Helpoin mutta isoin muutos hyvinvointiini.” 
 - Janika Antinmaa\, vapaaottelun EM-kultamitalisti &amp\; MM-hopeamitalist
 i\n\n\n\n\nMikä Vaikutus Hengityksellä On Hyvinvointiimme?\n\nHengitys v
 aikuttaa terveyteemme\, hyvinvointiimme ja jaksamiseemme valtavasti. Täss
 ä muutamia tärkeitä vaikutuksia listattuna.\n\nNykyään puhutaan paljo
 n unesta\, että jokaisen olisi hyvä nukkua 7-9 tuntia yössä. Mutta ole
 tko tietoinen\, että jos hengität suun kautta nukkuessasi\, et palaudu k
 unnolla ja tämä johtaa pitkässä juoksussa terveydellisiin ongelmiin?\n
 \nHuom! Jos kuorsaat tai narskuttelet hampaita\, suosittelen vahvasti\, et
 tä alat ottamaan hengityksen tieteestä selvää ja parantamaan hengityks
 en tasoasi.\n\nPaljon puhutaan myös stressin hallinnasta\, mutta tiesitk
 ö\, että stressi on selviytymisen tila ja silloin analysoit maailmaa sel
 viytymisen tilasta eli näet ulkomaailman uhkina. Kun elät selviytymisen 
 tilassa riittävän kauan alkaa\, niin kehosi alkaa menettämään toimint
 akyvyn. Tämä johtuu siitä\, että keholle ei jää energiaa korjaus ja 
 rakennusprojekteihin. Hengityksen avulla voit merkittävästi vähentää 
 myös stressitaakkaasi!\n\nEntäpä tiedätkö\, missä kehon ensimmäinen
  puolustus viruksia ja bakteereita vastaan sijaitsee? Oikea vastaus on nen
 ässä. Toisin sanoen\, mitä enemmän hengität suun kautta\, sitä toden
 näköisemmin virukset ja bakteerit pääsevät elimistöösi ja heikentä
 mään terveyttäsi. Pelkästään nenän kautta hengittämällä\, voit v
 ahvistaa kehosi puolustusjärjestelmää. \n\n\n\nKenelle tämä kurssi o
 n?\nSinulle\, joka:\n\n\n 	Haluat ymmärtää itseäsi syvemmin\n 	Etsit k
 onkreettisia työkaluja hyvinvointiin\n 	Olet valmis kokemaan\, et pelkäs
 tään kuulemaan\n\n\n\nTervetuloa viikonloppuun\, jossa hengitys ei ole e
 nää itsestäänselvyys vaan supervoima!
ATTACH;FMTTYPE=image/jpeg:https://www.seppotanhua.fi/wp-content/uploads/20
 26/03/astrologiahengityksenvoima.jpg
LOCATION:Soihtu hyvinvointikeskus\, Viisarintie 28\, Hämeenlinna\, 13130\,
  Suomi
X-APPLE-STRUCTURED-LOCATION;VALUE=URI;X-ADDRESS=Viisarintie 28\, Hämeenlin
 na\, 13130\, Suomi;X-APPLE-RADIUS=100;X-TITLE=Soihtu hyvinvointikeskus:geo
 :0,0
END:VEVENT
BEGIN:VTIMEZONE
TZID:Europe/Helsinki
X-LIC-LOCATION:Europe/Helsinki
BEGIN:DAYLIGHT
DTSTART:20260329T040000
TZOFFSETFROM:+0200
TZOFFSETTO:+0300
TZNAME:EEST
END:DAYLIGHT
END:VTIMEZONE
END:VCALENDAR